BEGIN:VCALENDAR
VERSION:2.0
PRODID:-//Chorale Internationale Sainte Thérèse - ECPv6.8.0//NONSGML v1.0//EN
CALSCALE:GREGORIAN
METHOD:PUBLISH
X-ORIGINAL-URL:https://choralesaintetherese.fr
X-WR-CALDESC:Évènements pour Chorale Internationale Sainte Thérèse
REFRESH-INTERVAL;VALUE=DURATION:PT1H
X-Robots-Tag:noindex
X-PUBLISHED-TTL:PT1H
BEGIN:VTIMEZONE
TZID:Europe/Paris
BEGIN:DAYLIGHT
TZOFFSETFROM:+0100
TZOFFSETTO:+0200
TZNAME:CEST
DTSTART:20230326T010000
END:DAYLIGHT
BEGIN:STANDARD
TZOFFSETFROM:+0200
TZOFFSETTO:+0100
TZNAME:CET
DTSTART:20231029T010000
END:STANDARD
END:VTIMEZONE
BEGIN:VEVENT
DTSTART;VALUE=DATE:20231007
DTEND;VALUE=DATE:20231008
DTSTAMP:20260422T204057
CREATED:20230815T192526Z
LAST-MODIFIED:20230815T192526Z
UID:248-1696636800-1696723199@choralesaintetherese.fr
SUMMARY:Mariage 7 Octobre
DESCRIPTION:La chorale anime un mariage le Samedi 7 Octobre prochain.
URL:https://choralesaintetherese.fr/event/mariage-7-octobre/
END:VEVENT
BEGIN:VEVENT
DTSTART;TZID=Europe/Paris:20231014T180000
DTEND;TZID=Europe/Paris:20231014T193000
DTSTAMP:20260422T204057
CREATED:20230928T164231Z
LAST-MODIFIED:20230928T164231Z
UID:390-1697306400-1697311800@choralesaintetherese.fr
SUMMARY:Animation Messe
DESCRIPTION:Animation messe dominicale.
URL:https://choralesaintetherese.fr/event/animation-messe/
END:VEVENT
BEGIN:VEVENT
DTSTART;TZID=Europe/Paris:20231015T093000
DTEND;TZID=Europe/Paris:20231015T103000
DTSTAMP:20260422T204057
CREATED:20230928T164449Z
LAST-MODIFIED:20230928T164449Z
UID:392-1697362200-1697365800@choralesaintetherese.fr
SUMMARY:Animation Messe
DESCRIPTION:Animation messe dominicale.
URL:https://choralesaintetherese.fr/event/animation-messe-2/
END:VEVENT
END:VCALENDAR