BEGIN:VCALENDAR
VERSION:2.0
PRODID:-//Chorale Internationale Sainte Thérèse - ECPv6.8.0//NONSGML v1.0//EN
CALSCALE:GREGORIAN
METHOD:PUBLISH
X-ORIGINAL-URL:https://choralesaintetherese.fr
X-WR-CALDESC:Évènements pour Chorale Internationale Sainte Thérèse
REFRESH-INTERVAL;VALUE=DURATION:PT1H
X-Robots-Tag:noindex
X-PUBLISHED-TTL:PT1H
BEGIN:VTIMEZONE
TZID:Europe/Paris
BEGIN:DAYLIGHT
TZOFFSETFROM:+0100
TZOFFSETTO:+0200
TZNAME:CEST
DTSTART:20230326T010000
END:DAYLIGHT
BEGIN:STANDARD
TZOFFSETFROM:+0200
TZOFFSETTO:+0100
TZNAME:CET
DTSTART:20231029T010000
END:STANDARD
END:VTIMEZONE
BEGIN:VEVENT
DTSTART;VALUE=DATE:20230923
DTEND;VALUE=DATE:20230924
DTSTAMP:20260422T235349
CREATED:20230815T191732Z
LAST-MODIFIED:20230815T191732Z
UID:244-1695427200-1695513599@choralesaintetherese.fr
SUMMARY:Mariage 23 Septembre.
DESCRIPTION:La Chorale anime un mariage ce Samedi 23 Septembre.
URL:https://choralesaintetherese.fr/event/mariage-23-septembre/
END:VEVENT
END:VCALENDAR